{"text_format":"1","workbook":"xlsx","n_sheets":2,"sheets":["Planilha1","Planilha2"],"not_rendered":{"charts":0,"images":2,"macros":0,"external_links":0,"defined_names":2,"comments":0,"pivot_tables":0},"unopened":[],"bounds":{"document_bytes":16777216,"sheet_cells":100000,"rows_first":2000,"rows_last":500,"rows_between":2000,"halvings":0,"cell_chars":16384,"cell_head_chars":4096},"cells_cut":0,"cells_raw":0,"read":"whole","date_system":"1900"}

{"sheet":"Planilha1","index":0,"n_rows":98,"n_cols":9,"rows_kept":98,"cut":false,"hidden":false,"merged":[[97,0,97,7],[60,2,60,7],[79,0,79,8],[80,2,80,7],[91,9,91,17],[92,2,92,7],[39,2,39,7],[40,2,40,7],[45,2,45,7],[51,2,51,7],[59,0,59,8],[17,0,17,8],[18,2,18,7],[19,2,19,7],[29,2,29,7],[38,0,38,8],[0,0,0,8],[2,0,2,8],[5,0,5,2],[6,0,6,1],[10,2,10,7]]}
["PREFEITURA MUNICIPAL DE ITAPOÁ – SC"]
[]
["PLANILHA ORÇAMENTÁRIA"]
[]
[]
["OBRA: QUADRA POLIESPORTIVA - ESCOLA E. F. FREI VALENTIM",null,null,null,null,null,null,null," BASE: SINAPI-SC – OUT./2019 "]
["LOCALIDADE: ITAPOÁ",null,null,null,null,null,null,null," NÃO DESONERADO "]
[null,null,null,null,null,null,null,"BDI:",0.23280000000000001]
[]
["Cód. Referência","ITEM","DESCRIÇÃO DO SERVIÇO","UNID.","QUANT."," VALOR UNITÁRIO (R$) ","UNITÁRIO C/ BDI (R$)","CUSTO TOTAL (R$)","PREÇO TOTAL (R$)"]
[null,1,"SERVIÇOS PRELIMINARES",null,null,null,null,null,{"$f":"SUM(H12:H17)","v":52085.912431360004}]
[99059,1.1000000000000001,"LOCACAO CONVENCIONAL DE OBRA, UTILIZANDO GABARITO DE TÁBUAS CORRIDAS PONTALETADAS A CADA 2,00M -  2 UTILIZAÇÕES. AF_10/2018",null,84,49.33,{"$f":"F12*(1+$I$8)","v":60.814024000000003},{"$f":"E12*G12","v":5108.3780160000006}]
["74209/1",1.2,"PLACA DE OBRA EM CHAPA DE ACO GALVANIZADO","M2",4.5,383.28,472.50758400000001,2126.2841280000002]
[41598,1.3,"ENTRADA PROVISORIA DE ENERGIA ELETRICA AEREA TRIFASICA 40A EM POSTE MADEIRA","UN",1,1569.94,1935.4220320000002,1935.4220320000002]
["74220/1",1.4,"TAPUME DE CHAPA DE MADEIRA COMPENSADA, E= 6MM, COM PINTURA A CAL E REAPROVEITAMENTO DE 2X","M2",290.64,58.83,72.525624000000008,21078.847359360003]
[93208,1.5,"EXECUÇÃO DE ALMOXARIFADO EM CANTEIRO DE OBRA EM CHAPA DE MADEIRA COMPENSADA, INCLUSO PRATELEIRAS. AF_02/2016","M2",12,713.88,880.07126400000004,10560.855168]
[93212,1.6,"EXECUÇÃO DE SANITÁRIO E VESTIÁRIO EM CANTEIRO DE OBRA EM CHAPA DE MADEIRA COMPENSADA, NÃO INCLUSO MOBILIÁRIO. AF_02/2016","M2",12,762.23,939.67714400000011,11276.125728000001]
[]
[null,2,"INFRA ESTRUTURA",null,null,null,null,null,{"$f":"I20+I30","v":56049.588677680003}]
[null,"2.1","SAPATAS",null,null,null,null,null,{"$f":"SUM(H21:H28)","v":32484.894180960004}]
[96523,"2.1.1","ESCAVAÇÃO MANUAL PARA BLOCO DE COROAMENTO OU SAPATA, COM PREVISÃO DE FÔRMA. AF_06/2017","M3",48.89,78.58,{"$f":"F21*(1+$I$8)","v":96.873424000000014},{"$f":"E21*G21","v":4736.1416993600005}]
[96535,"2.1.2","FABRICAÇÃO, MONTAGEM E DESMONTAGEM DE FÔRMA PARA SAPATA, EM MADEIRA SERRADA, E=25 MM, 4 UTILIZAÇÕES. AF_06/2017","M2",68.75,136.44,168.20323200000001,11563.9722]
[92799,"2,1,3","FORNECIMENTO, CORTE E DOBRA DE AÇO CA-60, DIÂMETRO DE 4,2 MM, UTILIZADO EM LAJE.  AF_12/2015","KG",70.7,7.14,8.8021919999999998,622.31497439999998]
[96544,"2,1,4","ARMAÇÃO DE BLOCO, VIGA BALDRAME OU SAPATA UTILIZANDO AÇO CA-50 DE 6,3 MM - MONTAGEM AF 06/2017","KG",73,10.88,13.412864000000003,979.13907200000017]
[96545,2.15,"ARMAÇÃO DE BLOCO, VIGA BALDRAME OU SAPATA UTILIZANDO AÇO CA-50 DE 8 MM - MONTAGEM. AF_06/2017","KG",228.2,10.11,12.463608000000001,2844.1953456000001]
[96546,2.16,"ARMAÇÃO DE BLOCO, VIGA BALDRAME OU SAPATA UTILIZANDO AÇO CA-50 DE 10,0 MM - MONTAGEM AF 06/2017","KG",225.3,8.1999999999999993,10.10896,2277.5486879999999]
[96556,2.17,"CONCRETAGEM DE SAPATAS, FCK 30 MPA, COM USO DE JERICA \u0096. FORNECIMENTO, LANÇAMENTO, ADENSAMENTO E ACABAMENTO. AF_06/2017","M3",11.98,563,694.06640000000004,8314.9154720000006]
[93382,2.1800000000000002,"REATERRO MANUAL DE VALAS COM COMPACTAÇÃO MECANIZADA. AF_04/2016","M3",36.909999999999997,25.2,31.066560000000003,1146.6667296000001]
[96621,2.19," LASTRO COM MATERIAL GRANULAR, APLICAÇÃO EM BLOCOS DE COROAMENTO, ESPESSURA DE * 5 CM *. AF_08/2017.","M3",2.65,158.33000000000001,195.18922400000002,517.25144360000002]
[null,"2.2","VIGAS BALDRAME",null,null,null,null,null,{"$f":"SUM(H31:H38)","v":23564.694496720003}]
[96527,"2.2.1","ESCAVAÇÃO MANUAL DE VALA PARA VIGA BALDRAME, COM PREVISÃO DE FÔRMA. AF_06/2017","M3",12.09,102.93,{"$f":"F31*(1+$I$8)","v":126.89210400000002},{"$f":"E31*G31","v":1534.1255373600002}]
[96536,"2.2.2","FABRICAÇÃO, MONTAGEM E DESMONTAGEM DE FÔRMA PARA VIGA BALDRAME, EM MADEIRA SERRADA, E=25 MM, 4 UTILIZAÇÕES. AF_06/2017","M2",131.77000000000001,66.459999999999994,81.931888000000001,10796.164881760002]
[96545,"2,2,3","FORNECIMENTO E ARMAÇÃO DE BLOCO, VIGA BALDRAME OU SAPATA UTILIZANDO AÇO CA-50 DE 8 MM - MONTAGEM. AF_06/2017","KG",173,10.11,12.463608000000001,2156.2041840000002]
[96546,"2,2,4","FORNECIMENTO E ARMAÇÃO DE BLOCO, VIGA BALDRAME OU SAPATA UTILIZANDO AÇO CA-50 DE 10,0 MM - MONTAGEM AF 06/2017","KG",114.2,8.1999999999999993,10.10896,1154.4432320000001]
[96547,"2,2,5","FORNECIMENTO E ARMAÇÃO DE BLOCO, VIGA BALDRAME OU SAPATA UTILIZANDO AÇO CA-50 DE 12,5 MM - MONTAGEM. AF_06/2017","KG",315.5,7.16,8.8268480000000018,2784.8705440000008]
[92799,"2,2,4","FORNECIMENTO, CORTE E DOBRA DE AÇO CA-60, DIÂMETRO DE 4,2 MM, UTILIZADO EM LAJE. AF_12/2015","KG",106.09,7.14,8.8021919999999998,933.82454928000004]
[96557,"2,2,5","FORNECIMENTO E CONCRETAGEM DE BLOCOS DE COROAMENTO E VIGAS DE BALDRAME, FCK 30 MPA, COM USO DE BOMBA \u0096 LANÇAMENTO, ADENSAMENTO E ACABAMENTO. AF_06/2017","M3",8.34,397.66,490.23524800000007,4088.5619683200007]
[93382,"2,2,6","REATERRO MANUAL DE VALAS COM COMPACTAÇÃO MECANIZADA. AF_04/2016","M3",3.75,25.2,31.066560000000003,116.49960000000002]
[]
[null,3,"SUPRA ESTRUTURA",null,null,null,null,null,{"$f":"I46+I41","v":72880.852238000007}]
[null,"3.1","PILARES",null,null,null,null,null,{"$f":"SUM(H42:H45)","v":47709.489690559996}]
[92418,"3.1.1","FORNECIMENTO, MONTAGEM E DESMONTAGEM DE FÔRMA DE PILARES RETANGULARES E ESTRUTURAS SIMILARES COM ÁREA MÉDIA DAS SEÇÕES MENOR OU IGUAL A 0,25 M², PÉ-DIREITO SIMPLES, EM MADEIRA SERRADA, 4 UTILIZAÇÕES. AF_12/2015","M2",252,78.08,{"$f":"F42*(1+$I$8)","v":96.257024000000001},{"$f":"E42*G42","v":24256.770047999998}]
[92799,"3,1,2","FORNECIMENTO, CORTE E DOBRA DE AÇO CA-60, DIÂMETRO DE 4,2 MM, UTILIZADO EM LAJE. AF_12/2015","KG",412.3,7.14,{"$f":"F43*(1+$I$8)","v":8.8021919999999998},{"$f":"E43*G43","v":3629.1437615999998}]
[92778,"3,1,3","ARMAÇÃO DE PILAR OU VIGA DE UMA ESTRUTURA CONVENCIONAL DE CONCRETO ARMADO UTILIZANDO AÇO CA-50 DE 10,0 MM – FORNECIMENTO E  MONTAGEM. AF_12/2015","KG",908.9,8.14,{"$f":"F44*(1+$I$8)","v":10.034992000000001},{"$f":"E44*G44","v":9120.8042287999997}]
[92720,"3,1,4","CONCRETAGEM DE VIGAS, FCK = 25 MPA, COM USO DE BOMBA EM EDIFICAÇÃO COM SEÇÃO MÉDIA DE PILARES MENOR OU IGUAL A 0,25 M² -FORNECIMENTO LANÇAMENTO, ADENSAMENTO E ACABAMENTO. AF_12/2015","M3",22.68,382.79,{"$f":"F45*(1+$I$8)","v":471.90351200000009},{"$f":"E45*G45","v":10702.771652160001}]
[null,"3.2","VIGAS DA COBERTURA",null,null,null,null,null,{"$f":"SUM(H47:H50)","v":25171.362547440007}]
[92448,"3.2.1","FORNECIMENTO MONTAGEM E DESMONTAGEM DE FÔRMA DE VIGA, ESCORAMENTO COM PONTALETE DE MADEIRA, PÉ-DIREITO SIMPLES, EM MADEIRA SERRADA, 4 UTILIZAÇÕES. AF_12/2015 ","M2",131.77000000000001,111.41,{"$f":"F47*(1+$I$8)","v":137.346248},{"$f":"E47*G47","v":18098.115098960003}]
[92799,"3,2,2","FORNECIMENTO, CORTE, DOBRA E MONTAGEM DE AÇO CA-60, DIÂMETRO DE 4,2 MM, UTILIZADO EM LAJE. AF_12/2015","KG",122.4,7.14,{"$f":"F48*(1+$I$8)","v":8.8021919999999998},{"$f":"E48*G48","v":1077.3883008}]
[92778,"3,2,3","ARMAÇÃO DE PILAR OU VIGA DE UMA ESTRUTURA CONVENCIONAL DE CONCRETO ARMADO EM UMA EDIFICAÇÃO TÉRREA OU SOBRADO UTILIZANDO AÇO CA-50 DE 10,0 MM – FORNECIMENTO E MONTAGEM. AF_12/2015","KG",205.3,8.14,{"$f":"F49*(1+$I$8)","v":10.034992000000001},{"$f":"E49*G49","v":2060.1838576000005}]
[92720,"3,2,4","CONCRETAGEM DE VIGAS, FCK = 25 MPA, COM USO DE BOMBA EM EDIFICAÇÃO COM SEÇÃO MÉDIA DE PILARES MENOR OU IGUAL A 0,25 M² - FORNECIMENTO, LANÇAMENTO, ADENSAMENTO E ACABAMENTO. AF_12/2015","M3",8.34,382.79,{"$f":"F50*(1+$I$8)","v":471.90351200000009},{"$f":"E50*G50","v":3935.6752900800007}]
[]
[null,4,"COBERTURA",null,null,null,null,null,{"$f":"SUM(H53:H59)","v":347442.69806647999}]
["COMPOSIÇÃO",4.2,"FORNECIMENTO, FABRICAÇÃO E INSTALAÇÃO DE ESTRUTURA METALICA, EM AÇO GALVANIZADO A FOGO, PARA TELHADOS COM 2 ÁGUAS E PARA TELHA DE AÇO/ALUMINIO, INCLUSO TRANSPORTE VERTICAL.","KG",15384.25,12.19,{"$f":"F53*(1+$I$8)","v":15.027832},{"$f":"E53*G53","v":231191.92444599999}]
[94213,4.3,"FORNECIMENTO E INSTALAÇÃO TELHAMENTO COM TELHA DE AÇO/ALUMÍNIO E = 0,5 MM, COM ATÉ 2 ÁGUAS, INCLUSO IÇAMENTO. AF_07/2019","M2",1198.22,41.88,51.629664000000005,61863.695998080009]
["COMPOSIÇÃO",4.4000000000000004,"FORNECIMENTO E INSTALAÇÃO CUMEEIRA EM PERFIL ONDULADO DE ALUMÍNIO E=0,5MM - 1,10x0,60M","M",42,56.29,69.394311999999999,2914.5611039999999]
[94228,4.5,"FORNECIMENTO E INSTALAÇÃO DE,CALHA EM CHAPA DE ALUMINIO NÚMERO 24, DESENVOLVIMENTO DE 50 CM, INCLUSO TRANSPORTE VERTICAL. AF_06/2016","M",84,65.91,81.253848000000005,6825.3232320000006]
[89578,4.5999999999999996,"TUBO PVC, SÉRIE R, ÁGUA PLUVIAL, DN 100 MM, FORNECIDO E INSTALADO EM CONDUTORES VERTICAIS DE ÁGUAS PLUVIAIS. AF_12/2014","M",144,26.35,32.484280000000005,4677.7363200000009]
["COMPOSIÇÃO",4.7,"FACHADA EM CHAPA GALVANIZADA N 20, INCLUSIVE ESTRUTURA DE FIXAÇÃO. FORNECIMENTO E INSTALAÇÃO","M2",188.8,160.84,198.28355200000001,37435.934617600004]
[94231,4.8,"RUFO EM CHAPA DE ALUMINIO NÚMERO 24, CORTE DE 25 CM, INCLUSO TRANSPORTE VERTICAL. AF_06/2016 FORNECIMENTO E INSTALAÇÃO","M",55.2,37.229999999999997,45.897143999999997,2533.5223488000001]
[]
[null,5,"PISO",null,null,null,null,null,{"$f":"SUM(H62:H64)","v":1912.8716544000001}]
[83534,5.0999999999999996,"LASTRO DE CONCRETO, PREPARO MECÂNICO, INCLUSOS ADITIVO IMPERMEABILIZANTE, LANÇAMENTO E ADENSAMENTO","M3",1.2,500.4,{"$f":"F62*(1+$I$8)","v":616.89312000000007},{"$f":"E62*G62","v":740.27174400000001}]
["COMPOSIÇÃO",5.2,"DEMOLIÇÃO DE PISO EM CONCRETO DE FORMA MANUAL, SEM REAPROVEITAMENTO. ","M3",1.2,454.94,{"$f":"F63*(1+$I$8)","v":560.85003200000006},{"$f":"E63*G63","v":673.02003840000009}]
[98680,5.2,"PISO CIMENTADO, TRAÇO 1/3 (CIMENTO E AREIA), ACABAMENTO LISO, ESPESSURA 3,0CM, PREPARO MECANICO DA ARGAMASSA. AF 06/2016","M2",12,33.770000000000003,{"$f":"F64*(1+$I$8)","v":41.631656000000007},{"$f":"E64*G64","v":499.57987200000008}]
[null,null,"-"]
[null,6,"INSTALAÇÃO ELÉTRICA",null,null,null,null,null,{"$f":"SUM(H67:H79)","v":15301.930286400002}]
[91942,6.1,"CAIXA RETANGULAR 4\" X 4\" ALTA (2,00 M DO PISO), PVC, INSTALADA EM PAREDE - FORNECIMENTO E INSTALAÇÃO. AF_12/2015","UD",2,34.770000000000003,{"$f":"F67*(1+$I$8)","v":42.864456000000011},{"$f":"E67*G67","v":85.728912000000022}]
[97886,6.2,"CAIXA DE PASSAGEM 30X30X40 COM TAMPA E DRENO BRITA","UD",2,136.94,168.81963200000001,337.63926400000003]
[91967,6.3,"INTERRUPTOR SIMPLES (3 MÓDULOS), 10A/250V, INCLUINDO SUPORTE E PLACA - FORNECIMENTO E INSTALAÇÃO. AF_12/2015","UD",2,55.8,68.790239999999997,137.58047999999999]
["COMPOSIÇÃO",6.4,"TAMPA DE CONCRETO ARMADO 60X60X5CM PARA CAIXA","UD",2,7.54,9.2953120000000009,18.590624000000002]
["COMPOSIÇÃO",6.5,"QUADRO DE DISTRIBUICAO DE ENERGIA EM PLASTICO DE SOBREPOR, PARA 12 DISJUNTORES TERMOMAGNETICOS MONOPOLARES, COM BARRAMENTO BIFASICO E NEUTRO - FORNECIMENTO E INSTALACAO","UD",1,359.11,442.71080800000004,442.71080800000004]
[93653,6.6,"DISJUNTOR MONOPOLAR TIPO DIN, CORRENTE NOMINAL DE 10A - FORNECIMENTO E INSTALAÇÃO. AF_04/2016","UD",6,11.01,13.573128000000001,81.43876800000001]
[91924,6.7,"CABO DE COBRE FLEXÍVEL ISOLADO, 1,5 MM², ANTI-CHAMA 450/750 V, PARA CIRCUITOS TERMINAIS - FORNECIMENTO E INSTALAÇÃO. AF_12/2015","M",552.6,2.14,2.6381920000000005,1457.8648992000003]
[91170,6.8,"FIXAÇÃO DE TUBOS HORIZONTAIS DE PVC, CPVC OU COBRE DIÂMETROS MENORES OU IGUAIS A 40 MM OU ELETROCALHAS ATÉ 150MM DE LARGURA, COM ABRAÇADEIRA METÁLICA RÍGIDA TIPO D 1/2\u0094, FIXADA EM PERFILADO EM LAJE. AF_05/2015","M",83.6,2.16,2.6628480000000003,222.61409280000001]
[95727,6.9,"ELETRODUTO RÍGIDO SOLDÁVEL, PVC, DN 25 MM (3/4\u0092\u0092), APARENTE, INSTALADO EM TETO - FORNECIMENTO E INSTALAÇÃO. AF_11/2016_P","M",83.6,5.58,6.8790240000000011,575.0864064000001]
[91844,6.1,"ELETRODUTO FLEXÍVEL CORRUGADO, PVC, DN 25 MM (3/4\"), PARA CIRCUITOS TERMINAIS, INSTALADO EM LAJE - FORNECIMENTO E INSTALAÇÃO. AF_12/2015","M",13.6,5.85,7.2118799999999998,98.08156799999999]
[91860,6.11,"ELETRODUTO FLEXÍVEL CORRUGADO, PEAD, DN 40 MM (1 1/2\"), PARA CIRCUITOS TERMINAIS, INSTALADO EM PAREDE - FORNECIMENTO E INSTALAÇÃO. AF_12/2015","M",32.6,13,16.026400000000002,522.46064000000013]
[97592,6.12,"LUMINÁRIA TIPO PLAFON, DE SOBREPOR, COM 1 LÂMPADA LED - FORNECIMENTO E INSTALAÇÃO. AF_11/2017","UD",24,105.77,130.39325600000001,3129.4381440000002]
["COMPOSIÇÃO",6.13,"LAMPADA LED LEDVANCE HIGHBAY 200 W - FORNECIMENTO E INSTALAÇÃO","UD",24,276.89999999999998,341.36232000000001,8192.6956800000007]
[]
[null,7,"PINTURA",null,null,null,null,null,{"$f":"SUM(H82:H85)","v":45197.439265920002}]
["79500/2",6.1,"PINTURA EPOXI, TRES DEMÃOS","M2",{"$f":"339.82+54.16+140.62","v":534.6},24.79,{"$f":"F82*(1+$I$8)","v":30.561112000000001},{"$f":"E82*G82","v":16337.970475200002}]
[41595,6.2,"PINTURA ACRILICA DE FAIXAS DE DEMARCAÇÃO EM QUADRA POLIESPORTIVA, 5CM DE LARGURA","M2",{"$f":"300+362.28","v":662.28},13.73,{"$f":"F83*(1+$I$8)","v":16.926344000000004},{"$f":"E83*G83","v":11209.979104320002}]
["73794/1",6.3,"PINTURA COM TINTA PROTETORA ACABAMENTO GRAFITE ESMALTE SOBRE SUPERFICIE METALICA 2 DEMÃOS","M2",534.6,14.66,{"$f":"F84*(1+$I$8)","v":18.072848},{"$f":"E84*G84","v":9661.7445408000003}]
[88489,"6.4","APLICAÇÃO MANUAL DE PINTURA COM TINTA LÁTEX ACRÍLICA NA COBERTURA METÁLICA, DUAS DEMÃOS NA COR AZUL DELREY. AF_06/2014","M2",534.6,12.12,{"$f":"F85*(1+$I$8)","v":14.941536000000001},{"$f":"E85*G85","v":7987.7451456000008}]
[]
[null,8,"EQUIPAMENTOS ",null,null,null,null,null,{"$f":"SUM(H88:H91)","v":10177.355744}]
[25399,"7.1","CONJUNTO PARA QUADRA DE  VOLEI COM POSTES EM TUBO DE ACO GALVANIZADO 3\", H = *255* CM, PINTURA EM TINTA ESMALTE SINTETICO, REDE DE NYLON COM 2 MM, MALHA 10 X 10 CM E ANTENAS OFICIAIS EM FIBRA DE VIDRO","UD",1,1400.6,{"$f":"F88*(1+$I$8)","v":1726.65968},{"$f":"E88*G88","v":1726.65968}]
[25398,"7.2","CONJUNTO PARA FUTSAL COM TRAVES OFICIAIS DE 3,00 X 2,00 M EM TUBO DE ACO GALVANIZADO 3\" COM REQUADRO EM TUBO DE 1\", PINTURA EM PRIMER COM TINTA ESMALTE SINTETICO E REDES DE POLIETILENO FIO 4 MM","UD",1,2307.08,{"$f":"F89*(1+$I$8)","v":2844.168224},{"$f":"E89*G89","v":2844.168224}]
["COTAÇÃO","7.3","CONJUNTO PARA QUADRA DE BASQUETE, CONFECCIONADA EM TUBO DE AÇO CARBONO Ø 4`` , MÃO FRANCESA DE Ø 2 ``, PROJEÇÃO OFICIAL EXTERNA 2,30M (AVANÇO), COM ACABAMENTO EM MASSA PLASTICA E PINTURA EM TINTA ESMALTE SINTETICO, MODELO FIXO, COM CHUMBADOR PARA O PISO, GALVANIZADA A FOGO - PAR - FORNECIMENTO E INSTALAÇÃO","UD",1,2867.65,{"$f":"F90*(1+$I$8)","v":3535.2389200000002},{"$f":"E90*G90","v":3535.2389200000002}]
["COTAÇÃO",7.4,"TABELA DE BASQUETE OFICIAL, COM ARO E REDE CONFECCIONADA EM LAMINADO NAVAL COM 20MM DE ESPESSURA, NA MEDIDA 1,80x1,05M, PINTURA EM TINTA ESMALTE SINTETICO, ENVOLVIDA POR PERFIS METALICOS COM VEDAÇÃO POR SILICONE, PARAFUSOS GALVANIZADOS E REDE FIO 2MM - PAR - FORNECIMENTO E INSTALAÇÃO","UD",1,1680.15,{"$f":"F91*(1+$I$8)","v":2071.2889200000004},{"$f":"E91*G91","v":2071.2889200000004}]
[]
[null,9,"DIVERSOS",null,null,null,null,null,{"$f":"SUM(H94:H97)","v":2174.6444064000002}]
["COMPOSIÇÃO","8.1","LIMPEZA FINAL DA OBRA","M2",422.8,2.46,{"$f":"F94*(1+$I$8)","v":3.0326880000000003},{"$f":"E94*G94","v":1282.2204864000003}]
[72897,"8.2","CARGA MANUAL DE ENTULHO EM CAMINHAO BASCULANTE 6 M3","M3",10,20.99,{"$f":"F95*(1+$I$8)","v":25.876472},{"$f":"E95*G95","v":258.76472000000001}]
[95875,"8.4","TRANSPORTE COM CAMINHÃO BASCULANTE DE 10 M3, EM VIA URBANA PAVIMENTADA, DMT ATÉ 30 KM (UNIDADE: M3XKM). AF_12/2016","M³XKm",10,33.9,{"$f":"F96*(1+$I$8)","v":41.791920000000005},{"$f":"E96*G96","v":417.91920000000005}]
["COMPOSIÇÃO","8.5","DESTINAÇÃO DE RESIDUOS (CERTIFICADO)","M3",10,17.5,{"$f":"F97*(1+$I$8)","v":21.574000000000002},{"$f":"E97*G97","v":215.74}]
["TOTAL GERAL:",null,null,null,null,null,null,null,{"$f":"I11+I19+I40+I52+I61+I81+I93+I66+I87","v":603223.29277063999}]

{"sheet":"Planilha2","index":1,"n_rows":23,"n_cols":12,"rows_kept":23,"cut":false,"hidden":false,"merged":[[9,8,9,9],[21,0,21,1],[22,0,22,1],[0,0,0,6],[2,0,2,6],[6,0,6,1],[9,4,9,5],[9,6,9,7],[5,0,5,4]]}
["PREFEITURA MUNICIPAL DE ITAPOÁ – SC"]
[]
["CRONOGRAMA FÍSICO-FINANCEIRO"]
[]
[]
["OBRA: QUADRA POLIESPORTIVA - ESCOLA E. F. FREI VALENTIM",null,null,null,null,null,null,null,null,null,null," BASE: SINAPI-SC – OUT./2019 "]
["LOCALIDADE: ITAPOÁ",null,null,null,null,null,null,null,null,null,null," NÃO DESONERADO "]
[null,null,null,null,null,null,null,null,null,null,null,0.22789999999999999]
[]
["Item","Discriminação dos serviços","Peso (%)","Valor das obras/serviços (R$)","Mês 01",null,"Mês 02",null,"Mês 03",null,"Total (R$)","Total (%)"]
[null,null,null,null,"Valor         R$","%","Valor          R$","%","Valor         R$","%"]
[null,"Materiais e serviços"]
[1,{"$f":"Planilha1!C11","v":"SERVIÇOS PRELIMINARES"},{"$f":"$D13/$D$22","v":8.6345990043133675E-2},{"$f":"Planilha1!I11","v":52085.912431360004},{"$f":"$D13*F13","v":52085.912431360004},1,null,null,null,null,{"$f":"E13+G13+I13","v":52085.912431360004},{"$f":"F13+H13+J13","v":1}]
[2,{"$f":"Planilha1!C19","v":"INFRA ESTRUTURA"},9.2916817618631631E-2,{"$f":"Planilha1!I19","v":56049.588677680003},{"$f":"$D14*F14","v":56049.588677680003},1,null,null,null,null,{"$f":"E14+G14+I14","v":56049.588677680003},{"$f":"F14+H14+J14","v":1}]
[3,{"$f":"Planilha1!C40","v":"SUPRA ESTRUTURA"},0.12081902856113855,{"$f":"Planilha1!I40","v":72880.852238000007},{"$f":"$D15*F15","v":36440.426119000003},0.5,{"$f":"$D15*H15","v":36440.426119000003},0.5,null,null,{"$f":"E15+G15","v":72880.852238000007},{"$f":"F15+H15+J15","v":1}]
[4,{"$f":"Planilha1!C52","v":"COBERTURA"},0.57597692633959008,{"$f":"Planilha1!I52","v":347442.69806647999},null,null,{"$f":"$D16*H16","v":243209.88864653598},0.7,{"$f":"$D16*J16","v":104232.80941994399},0.3,{"$f":"G16+I16","v":347442.69806647999},1]
[5,{"$f":"Planilha1!C61","v":"PISO"},3.1710838711384434E-3,{"$f":"Planilha1!I61","v":1912.8716544000001},null,null,null,null,1912.8716544000001,1,{"$f":"I17","v":1912.8716544000001},1]
[6,"INSTALAÇÃO ELÉTRICA",2.5366942009346714E-2,{"$f":"Planilha1!I66","v":15301.930286400002},null,null,{"$f":"$D18*H18","v":5355.6756002400007},0.35,9946.2546861600022,0.65,{"$f":"G18+I18","v":15301.930286400002},1]
[7,"PINTURA",7.4926548440007179E-2,{"$f":"Planilha1!I81","v":45197.439265920002},null,null,null,null,45197.439265920002,1,{"$f":"I19","v":45197.439265920002},1]
[8,"EQUIPAMENTOS",1.6871622608030944E-2,{"$f":"Planilha1!I87","v":10177.355744},null,null,null,null,10177.355744,1,{"$f":"I20","v":10177.355744},1]
[9,"DI8VERSOS",3.6050405089825535E-3,{"$f":"Planilha1!I93","v":2174.6444064000002},null,null,null,null,2174.6444064000002,1,{"$f":"I21","v":2174.6444064000002},1]
["Total simples",null,{"$f":"SUM(C13:C21)","v":0.99999999999999989},{"$f":"SUM(D13:D21)","v":603223.29277064011},{"$f":"SUM(E13:E21)","v":144575.92722804},{"$f":"E22/$D$22","v":0.23967232194233459},{"$f":"SUM(G13:G21)","v":285005.990365776},{"$f":"G22/$D$22","v":0.47247179242155374},{"$f":"SUM(I13:I21)","v":173641.37517682402},{"$f":"I22/$D$22","v":0.28785588563611153}]
["Total acumulado",null,{"$f":"C22","v":0.99999999999999989},{"$f":"D22","v":603223.29277064011},{"$f":"E22","v":144575.92722804},{"$f":"F22","v":0.23967232194233459},{"$f":"G22+E23","v":429581.917593816},0.71214411436388836,603223.29277063999,0.99999999999999989,{"$f":"SUM(K12:K21)","v":603223.29277064011},{"$f":"K23/D23","v":1}]